BEGIN:VCALENDAR
VERSION:2.0
PRODID:-//Sedona Fire District - ECPv6.15.20//NONSGML v1.0//EN
CALSCALE:GREGORIAN
METHOD:PUBLISH
X-WR-CALNAME:Sedona Fire District
X-ORIGINAL-URL:https://www.sedonafire.org
X-WR-CALDESC:Events for Sedona Fire District
REFRESH-INTERVAL;VALUE=DURATION:PT1H
X-Robots-Tag:noindex
X-PUBLISHED-TTL:PT1H
BEGIN:VTIMEZONE
TZID:UTC
BEGIN:STANDARD
TZOFFSETFROM:+0000
TZOFFSETTO:+0000
TZNAME:UTC
DTSTART:20250101T000000
END:STANDARD
END:VTIMEZONE
BEGIN:VEVENT
DTSTART;TZID=UTC:20260516T093000
DTEND;TZID=UTC:20260516T120000
DTSTAMP:20260425T150511
CREATED:20260422T183835Z
LAST-MODIFIED:20260422T183835Z
UID:10000131-1778923800-1778932800@www.sedonafire.org
SUMMARY:SFD Recruitment & Mentorship (RAM) Program
DESCRIPTION:The Sedona RAM Program is a free\, ongoing recruitment and mentorship opportunity designed to help motivated individuals prepare for a career with Sedona Fire District. \nIf you are interested\, please RSVP by emailing ram@sedonafire.org \nWho should attend: \n\nAspiring Firefighters\nEMTs or Paramedics considering the fire service\nStudents exploring public safety careers\nAnyone preparing for fire department testing\n\nWhen & Where: \nMay 16th\, 2026 \n9:30am – 12:00pm \nSedona Fire Station #3 \n125 Slide Rock Rd \nSedona\, AZ 86351
URL:https://www.sedonafire.org/event/ram-may-event/
LOCATION:SFD\, Station 3\, 125 Slide Rock Road\, Village of Oak Creek\, AZ\, 86351\, United States
CATEGORIES:All Events,Board Meetings
ATTACH;FMTTYPE=image/jpeg:https://www.sedonafire.org/wp-content/uploads/2025/01/IMG_1711.jpeg
END:VEVENT
END:VCALENDAR