BEGIN:VCALENDAR
VERSION:2.0
PRODID:-//Sedona Fire District - ECPv6.15.20//NONSGML v1.0//EN
CALSCALE:GREGORIAN
METHOD:PUBLISH
X-ORIGINAL-URL:https://www.sedonafire.org
X-WR-CALDESC:Events for Sedona Fire District
REFRESH-INTERVAL;VALUE=DURATION:PT1H
X-Robots-Tag:noindex
X-PUBLISHED-TTL:PT1H
BEGIN:VTIMEZONE
TZID:UTC
BEGIN:STANDARD
TZOFFSETFROM:+0000
TZOFFSETTO:+0000
TZNAME:UTC
DTSTART:20250101T000000
END:STANDARD
END:VTIMEZONE
BEGIN:VEVENT
DTSTART;TZID=UTC:20260616T150000
DTEND;TZID=UTC:20260616T170000
DTSTAMP:20260425T182150
CREATED:20260209T170831Z
LAST-MODIFIED:20260209T170831Z
UID:10000142-1781622000-1781629200@www.sedonafire.org
SUMMARY:June 2026 Board Meeting
DESCRIPTION:Join the Sedona Fire Governing Board Public Meeting\nThe 3rd Tuesday of each Month\nNow at 3:00pm \nLocated in the Multipurpose Room at Station #1\n2860 Southwest Drive in West Sedona\nand online through Microsoft Teams. \nSee Board Meetings & Minutes for more details
URL:https://www.sedonafire.org/event/june-2026-board-meeting/
LOCATION:SFD Station 1\, 2860 Southwest Drive\, Sedona (Yavapai)\, AZ\, 86336\, United States
CATEGORIES:All Events,Board Meetings
ATTACH;FMTTYPE=image/jpeg:https://www.sedonafire.org/wp-content/uploads/2022/07/station6.jpg
END:VEVENT
BEGIN:VEVENT
DTSTART;TZID=UTC:20260721T150000
DTEND;TZID=UTC:20260721T170000
DTSTAMP:20260425T182150
CREATED:20260209T171018Z
LAST-MODIFIED:20260209T171018Z
UID:10000143-1784646000-1784653200@www.sedonafire.org
SUMMARY:July 2026 Board Meeting
DESCRIPTION:Join the Sedona Fire Governing Board Public Meeting\nThe 3rd Tuesday of each Month\nNow at 3:00pm \nLocated in the Multipurpose Room at Station #1\n2860 Southwest Drive in West Sedona\nand online through Microsoft Teams. \nSee Board Meetings & Minutes for more details
URL:https://www.sedonafire.org/event/july-2026-board-meeting/
LOCATION:SFD Station 1\, 2860 Southwest Drive\, Sedona (Yavapai)\, AZ\, 86336\, United States
CATEGORIES:All Events,Board Meetings
ATTACH;FMTTYPE=image/jpeg:https://www.sedonafire.org/wp-content/uploads/2022/07/station6.jpg
END:VEVENT
BEGIN:VEVENT
DTSTART;TZID=UTC:20260818T150000
DTEND;TZID=UTC:20260818T170000
DTSTAMP:20260425T182150
CREATED:20260209T171241Z
LAST-MODIFIED:20260209T171241Z
UID:10000144-1787065200-1787072400@www.sedonafire.org
SUMMARY:August 2026 Board Meeting
DESCRIPTION:Join the Sedona Fire Governing Board Public Meeting\nThe 3rd Tuesday of each Month\nNow at 3:00pm \nLocated in the Multipurpose Room at Station #1\n2860 Southwest Drive in West Sedona\nand online through Microsoft Teams. \nSee Board Meetings & Minutes for more details
URL:https://www.sedonafire.org/event/august-2026-board-meeting/
LOCATION:SFD Station 1\, 2860 Southwest Drive\, Sedona (Yavapai)\, AZ\, 86336\, United States
CATEGORIES:All Events,Board Meetings
ATTACH;FMTTYPE=image/jpeg:https://www.sedonafire.org/wp-content/uploads/2022/07/station6.jpg
END:VEVENT
BEGIN:VEVENT
DTSTART;TZID=UTC:20260915T150000
DTEND;TZID=UTC:20260915T170000
DTSTAMP:20260425T182150
CREATED:20260209T171357Z
LAST-MODIFIED:20260209T171357Z
UID:10000145-1789484400-1789491600@www.sedonafire.org
SUMMARY:September 2026 Board Meeting
DESCRIPTION:Join the Sedona Fire Governing Board Public Meeting\nThe 3rd Tuesday of each Month\nNow at 3:00pm \nLocated in the Multipurpose Room at Station #1\n2860 Southwest Drive in West Sedona\nand online through Microsoft Teams. \nSee Board Meetings & Minutes for more details
URL:https://www.sedonafire.org/event/september-2026-board-meeting/
LOCATION:SFD Station 1\, 2860 Southwest Drive\, Sedona (Yavapai)\, AZ\, 86336\, United States
CATEGORIES:All Events,Board Meetings
ATTACH;FMTTYPE=image/jpeg:https://www.sedonafire.org/wp-content/uploads/2022/07/station6.jpg
END:VEVENT
BEGIN:VEVENT
DTSTART;TZID=UTC:20260921T070000
DTEND;TZID=UTC:20260924T170000
DTSTAMP:20260425T182150
CREATED:20260219T170303Z
LAST-MODIFIED:20260219T170303Z
UID:10000150-1789974000-1790269200@www.sedonafire.org
SUMMARY:Rope Rescue Operator Course (RRO)
DESCRIPTION:Operations Level \nRRT Prerequisite \n30 hours in 4 days \n$699 \nClick here to register
URL:https://www.sedonafire.org/event/rope-rescue-operator-course-rro/
LOCATION:SFD Station 1\, 2860 Southwest Drive\, Sedona (Yavapai)\, AZ\, 86336\, United States
CATEGORIES:All Events,Trainings
ATTACH;FMTTYPE=image/jpeg:https://www.sedonafire.org/wp-content/uploads/2022/06/283015353_375140477977764_7582352111983241319_n-e1734995335181.jpg
END:VEVENT
BEGIN:VEVENT
DTSTART;TZID=UTC:20260921T070000
DTEND;TZID=UTC:20260926T170000
DTSTAMP:20260425T182150
CREATED:20260219T170424Z
LAST-MODIFIED:20260219T170424Z
UID:10000151-1789974000-1790442000@www.sedonafire.org
SUMMARY:RRO/RRT Combo Class
DESCRIPTION:52 hours in 6 days \n$1299 \nClick here to register
URL:https://www.sedonafire.org/event/rro-rrt-combo-class-fall/
LOCATION:SFD Station 1\, 2860 Southwest Drive\, Sedona (Yavapai)\, AZ\, 86336\, United States
CATEGORIES:All Events,Trainings
ATTACH;FMTTYPE=image/jpeg:https://www.sedonafire.org/wp-content/uploads/2025/03/Rope_Work.JPG.jpg
END:VEVENT
BEGIN:VEVENT
DTSTART;TZID=UTC:20260923T070000
DTEND;TZID=UTC:20260926T170000
DTSTAMP:20260425T182150
CREATED:20260219T170133Z
LAST-MODIFIED:20260219T170133Z
UID:10000149-1790146800-1790442000@www.sedonafire.org
SUMMARY:Rope Rescue Technician Course (RRT)
DESCRIPTION:Technician Level \n30 hours in 4 days \n$699 \nTo sign up\, click here
URL:https://www.sedonafire.org/event/rope-rescue-technician-course-rrt-fall/
LOCATION:SFD Station 1\, 2860 Southwest Drive\, Sedona (Yavapai)\, AZ\, 86336\, United States
CATEGORIES:All Events,Trainings
ATTACH;FMTTYPE=image/jpeg:https://www.sedonafire.org/wp-content/uploads/2025/05/IMG_9193.jpg
END:VEVENT
BEGIN:VEVENT
DTSTART;TZID=UTC:20261020T150000
DTEND;TZID=UTC:20261020T170000
DTSTAMP:20260425T182150
CREATED:20260209T171457Z
LAST-MODIFIED:20260209T171457Z
UID:10000146-1792508400-1792515600@www.sedonafire.org
SUMMARY:October 2026 Board Meeting
DESCRIPTION:Join the Sedona Fire Governing Board Public Meeting\nThe 3rd Tuesday of each Month\nNow at 3:00pm \nLocated in the Multipurpose Room at Station #1\n2860 Southwest Drive in West Sedona\nand online through Microsoft Teams. \nSee Board Meetings & Minutes for more details
URL:https://www.sedonafire.org/event/october-2026-board-meeting/
LOCATION:SFD Station 1\, 2860 Southwest Drive\, Sedona (Yavapai)\, AZ\, 86336\, United States
CATEGORIES:All Events,Board Meetings
ATTACH;FMTTYPE=image/jpeg:https://www.sedonafire.org/wp-content/uploads/2022/07/station6.jpg
END:VEVENT
BEGIN:VEVENT
DTSTART;TZID=UTC:20261117T150000
DTEND;TZID=UTC:20261117T170000
DTSTAMP:20260425T182150
CREATED:20260209T171554Z
LAST-MODIFIED:20260209T171554Z
UID:10000147-1794927600-1794934800@www.sedonafire.org
SUMMARY:November 2026 Board Meeting
DESCRIPTION:Join the Sedona Fire Governing Board Public Meeting\nThe 3rd Tuesday of each Month\nNow at 3:00pm \nLocated in the Multipurpose Room at Station #1\n2860 Southwest Drive in West Sedona\nand online through Microsoft Teams. \nSee Board Meetings & Minutes for more details
URL:https://www.sedonafire.org/event/november-2026-board-meeting/
LOCATION:SFD Station 1\, 2860 Southwest Drive\, Sedona (Yavapai)\, AZ\, 86336\, United States
CATEGORIES:All Events,Board Meetings
ATTACH;FMTTYPE=image/jpeg:https://www.sedonafire.org/wp-content/uploads/2022/07/station6.jpg
END:VEVENT
BEGIN:VEVENT
DTSTART;TZID=UTC:20261215T150000
DTEND;TZID=UTC:20261215T170000
DTSTAMP:20260425T182150
CREATED:20260209T171644Z
LAST-MODIFIED:20260209T171644Z
UID:10000148-1797346800-1797354000@www.sedonafire.org
SUMMARY:December 2026 Board Meeting
DESCRIPTION:Join the Sedona Fire Governing Board Public Meeting\nThe 3rd Tuesday of each Month\nNow at 3:00pm \nLocated in the Multipurpose Room at Station #1\n2860 Southwest Drive in West Sedona\nand online through Microsoft Teams. \nSee Board Meetings & Minutes for more details
URL:https://www.sedonafire.org/event/december-2026-board-meeting/
LOCATION:SFD Station 1\, 2860 Southwest Drive\, Sedona (Yavapai)\, AZ\, 86336\, United States
CATEGORIES:All Events,Board Meetings
ATTACH;FMTTYPE=image/jpeg:https://www.sedonafire.org/wp-content/uploads/2022/07/station6.jpg
END:VEVENT
END:VCALENDAR