BEGIN:VCALENDAR
VERSION:2.0
PRODID:-//Sedona Fire District - ECPv6.15.20//NONSGML v1.0//EN
CALSCALE:GREGORIAN
METHOD:PUBLISH
X-WR-CALNAME:Sedona Fire District
X-ORIGINAL-URL:https://www.sedonafire.org
X-WR-CALDESC:Events for Sedona Fire District
REFRESH-INTERVAL;VALUE=DURATION:PT1H
X-Robots-Tag:noindex
X-PUBLISHED-TTL:PT1H
BEGIN:VTIMEZONE
TZID:UTC
BEGIN:STANDARD
TZOFFSETFROM:+0000
TZOFFSETTO:+0000
TZNAME:UTC
DTSTART:20230101T000000
END:STANDARD
END:VTIMEZONE
BEGIN:VEVENT
DTSTART;TZID=UTC:20250423T080000
DTEND;TZID=UTC:20250423T170000
DTSTAMP:20260425T201847
CREATED:20240704T024022Z
LAST-MODIFIED:20250402T061258Z
UID:10000111-1745395200-1745427600@www.sedonafire.org
SUMMARY:IT Systems Specialist Application Review
DESCRIPTION:IT Systems Specialist – Position open until Filled \nFirst application review: April 23\, 2025 \nInterested applicants must send their application and resume to Sedona Fire District Human Resources: \nEmail: humanresources@sedonafire.org\nFax: 928-204-8916\nMail: 2860 Southwest Dr.\, Sedona\, AZ 86336
URL:https://www.sedonafire.org/event/it-systems-specialist-first-application-review/
LOCATION:AZ
CATEGORIES:All Events
ATTACH;FMTTYPE=image/jpeg:https://www.sedonafire.org/wp-content/uploads/2022/07/careers-intro.jpg
END:VEVENT
BEGIN:VEVENT
DTSTART;TZID=UTC:20250421T080000
DTEND;TZID=UTC:20250421T170000
DTSTAMP:20260425T201847
CREATED:20250402T062306Z
LAST-MODIFIED:20250402T062306Z
UID:10000135-1745222400-1745254800@www.sedonafire.org
SUMMARY:Executive Assistant Application Review
DESCRIPTION:Executive Assistant to the Fire Chief – Position open until Filled \nFirst application review: April 21\, 2025 \nInterested applicants must send their application and resume to Sedona Fire District Human Resources: \nEmail: humanresources@sedonafire.org\nFax: 928-204-8916\nMail: 2860 Southwest Dr.\, Sedona\, AZ 86336
URL:https://www.sedonafire.org/event/executive-assistant-application-review/
LOCATION:AZ
CATEGORIES:All Events
ATTACH;FMTTYPE=image/jpeg:https://www.sedonafire.org/wp-content/uploads/2024/08/9-11-Honor-Guard.jpg
END:VEVENT
BEGIN:VEVENT
DTSTART;TZID=UTC:20250420T080000
DTEND;TZID=UTC:20250420T170000
DTSTAMP:20260425T201847
CREATED:20240924T012257Z
LAST-MODIFIED:20250402T061706Z
UID:10000114-1745136000-1745168400@www.sedonafire.org
SUMMARY:Human Resource Specialist Application Review
DESCRIPTION:Human Resource Specialist see full Job Description \n\nOpen until filled\nApplication review April 20\, 2025\n\nInterested applicants must send their application and resume to Sedona Fire District Human Resources. \nEmail: humanresources@sedonafire.org\nFax: 928-204-8916\nMail: 2860 Southwest Dr.\, Sedona\, AZ 86336
URL:https://www.sedonafire.org/event/human-resource-specialist-application-review/
LOCATION:AZ
CATEGORIES:All Events
ATTACH;FMTTYPE=image/jpeg:https://www.sedonafire.org/wp-content/uploads/2024/04/Admin-2024.jpg
END:VEVENT
BEGIN:VEVENT
DTSTART;TZID=UTC:20250415T150000
DTEND;TZID=UTC:20250415T170000
DTSTAMP:20260425T201847
CREATED:20241224T053827Z
LAST-MODIFIED:20241224T053827Z
UID:10000121-1744729200-1744736400@www.sedonafire.org
SUMMARY:April 2025 Board Meeting
DESCRIPTION:Join the Sedona Fire Governing Board Public Meeting\nThe 3rd Tuesday of each Month\nNow at 3:00pm \nLocated in the Multipurpose Room at Station #1\n2860 Southwest Drive in West Sedona\nand online through Microsoft Teams. \nSee Board Meetings & Minutes for more details
URL:https://www.sedonafire.org/event/april-2025-board-meeting/
LOCATION:SFD Station 1\, 2860 Southwest Drive\, Sedona (Yavapai)\, AZ\, 86336\, United States
CATEGORIES:All Events,Board Meetings
ATTACH;FMTTYPE=image/jpeg:https://www.sedonafire.org/wp-content/uploads/2024/08/hose-training-with-engine.jpg
END:VEVENT
BEGIN:VEVENT
DTSTART;TZID=UTC:20250318T150000
DTEND;TZID=UTC:20250318T170000
DTSTAMP:20260425T201847
CREATED:20241224T053518Z
LAST-MODIFIED:20241224T053518Z
UID:10000120-1742310000-1742317200@www.sedonafire.org
SUMMARY:March 2025 Board Meeting
DESCRIPTION:Join the Sedona Fire Governing Board Public Meeting\nThe 3rd Tuesday of each Month\nNow at 3:00pm \nLocated in the Multipurpose Room at Station #1\n2860 Southwest Drive in West Sedona\nand online through Microsoft Teams. \nSee Board Meetings & Minutes for more details
URL:https://www.sedonafire.org/event/march-2025-board-meeting/
LOCATION:SFD Station 1\, 2860 Southwest Drive\, Sedona (Yavapai)\, AZ\, 86336\, United States
CATEGORIES:All Events,Board Meetings
ATTACH;FMTTYPE=image/jpeg:https://www.sedonafire.org/wp-content/uploads/2024/07/42_TRT-hero2.jpg
END:VEVENT
BEGIN:VEVENT
DTSTART;TZID=UTC:20250317T080000
DTEND;TZID=UTC:20250317T170000
DTSTAMP:20260425T201847
CREATED:20250228T070548Z
LAST-MODIFIED:20250228T070548Z
UID:10000134-1742198400-1742230800@www.sedonafire.org
SUMMARY:Administrative Clerk First Application Review
DESCRIPTION:Administrative Clerk – Position open until Filled \nFirst application review: March 17\, 2025 \nInterested applicants must send their application and resume to Sedona Fire District Human Resources: \nEmail: humanresources@sedonafire.org\nFax: 928-204-8916\nMail: 2860 Southwest Dr.\, Sedona\, AZ 86336
URL:https://www.sedonafire.org/event/administrative-clerk-first-application-review-2/
LOCATION:AZ
CATEGORIES:All Events
ATTACH;FMTTYPE=application/pdf:https://www.sedonafire.org/wp-content/uploads/2025/02/Hiring_Announcement_Admin_Clerk_2025-1.pdf
END:VEVENT
BEGIN:VEVENT
DTSTART;TZID=UTC:20250315T103000
DTEND;TZID=UTC:20250315T120000
DTSTAMP:20260425T201847
CREATED:20250114T060942Z
LAST-MODIFIED:20250114T060942Z
UID:10000130-1742034600-1742040000@www.sedonafire.org
SUMMARY:St. Patrick's Day Parade
DESCRIPTION:City of Sedona\, St. Patrick’s Day Parade \nDate:  03/15/2025\nTime:   10:30 a.m.\nLocation:   Jordan Road\nBegins at 735 Jordan Road\nSedona\, Arizona 86336\nIntroduction:  Annual parade in uptown Sedona celebrating St. Patrick’s Day. \nJoin the City of Sedona and the Parks and Recreation Department for the annual St. Patrick’s Parade in Sedona. \nThe festivities are presented by the City of Sedona Parks & Recreation Department.  The parade begins at 10:30 a.m. from Jordan Historical Park and proceeds south on Jordan Road to Mesquite Avenue. Parade entrants include civic\, social\, cultural and religious organizations\, dignitaries and area businesses\, including Sedona Fire District. \nFor more information\, visit the City of Sedona
URL:https://www.sedonafire.org/event/st-patricks-day-parade/
LOCATION:Uptown Sedona\, 735 Jordan Road\, Sedona\, AZ\, 86336\, United States
CATEGORIES:All Events,Community Events
ATTACH;FMTTYPE=image/jpeg:https://www.sedonafire.org/wp-content/uploads/2025/01/CityStPatrickParade.jpg
END:VEVENT
BEGIN:VEVENT
DTSTART;TZID=UTC:20250218T150000
DTEND;TZID=UTC:20250218T170000
DTSTAMP:20260425T201847
CREATED:20241224T051350Z
LAST-MODIFIED:20241224T051715Z
UID:10000119-1739890800-1739898000@www.sedonafire.org
SUMMARY:February 2025 Board Meeting
DESCRIPTION:Join the Sedona Fire Governing Board Public Meeting\nThe 3rd Tuesday of each Month\nNow at 3:00pm \nLocated in the Multipurpose Room at Station #1\n2860 Southwest Drive in West Sedona\nand online through Microsoft Teams. \nSee Board Meetings & Minutes for more details
URL:https://www.sedonafire.org/event/february-2025-board-meeting/
LOCATION:SFD Station 1\, 2860 Southwest Drive\, Sedona (Yavapai)\, AZ\, 86336\, United States
CATEGORIES:All Events,Board Meetings
ATTACH;FMTTYPE=image/jpeg:https://www.sedonafire.org/wp-content/uploads/2024/08/A511-AZ-wrap.jpg
END:VEVENT
BEGIN:VEVENT
DTSTART;TZID=UTC:20250121T150000
DTEND;TZID=UTC:20250121T170000
DTSTAMP:20260425T201847
CREATED:20241224T041243Z
LAST-MODIFIED:20241224T041243Z
UID:10000118-1737471600-1737478800@www.sedonafire.org
SUMMARY:January 2025 Board Meeting
DESCRIPTION:Join the Sedona Fire Governing Board Public Meeting\nThe 3rd Tuesday of each Month\nNow at 3:00pm \nLocated in the Multipurpose Room at Station #1\n2860 Southwest Drive in West Sedona\nand online through Microsoft Teams. \nSee Board Meetings & Minutes for more details
URL:https://www.sedonafire.org/event/january-2025-board-meeting/
LOCATION:SFD Station 1\, 2860 Southwest Drive\, Sedona (Yavapai)\, AZ\, 86336\, United States
CATEGORIES:All Events,Board Meetings
ATTACH;FMTTYPE=image/jpeg:https://www.sedonafire.org/wp-content/uploads/2024/07/firefighting-in-snow-web.jpg
END:VEVENT
BEGIN:VEVENT
DTSTART;TZID=UTC:20241217T163000
DTEND;TZID=UTC:20241217T180000
DTSTAMP:20260425T201847
CREATED:20240103T011309Z
LAST-MODIFIED:20240103T064810Z
UID:10000104-1734453000-1734458400@www.sedonafire.org
SUMMARY:December 2024 Board Meeting
DESCRIPTION:Notice of Quorum\nAgenda\nPacket\nRecorded Meeting
URL:https://www.sedonafire.org/event/december-2024-board-meeting/
LOCATION:SFD Station 1\, 2860 Southwest Drive\, Sedona (Yavapai)\, AZ\, 86336\, United States
CATEGORIES:All Events,Board Meetings
ATTACH;FMTTYPE=image/jpeg:https://www.sedonafire.org/wp-content/uploads/2021/10/Mountain-Biking_Sedona_Arizona_Pyramid-1024x768-1.jpeg
END:VEVENT
BEGIN:VEVENT
DTSTART;TZID=UTC:20241214T120000
DTEND;TZID=UTC:20241214T150000
DTSTAMP:20260425T201847
CREATED:20241204T223356Z
LAST-MODIFIED:20241204T223356Z
UID:10000117-1734177600-1734188400@www.sedonafire.org
SUMMARY:Bike Rodeo - Toys for Tots
DESCRIPTION:Join Sedona Fire District at the 2024 Toys for Tots Bike Distribution Day\n12pm – 3pm\, West Sedona School \nDeadline to register through Toys for Tots is December 13\, 2024
URL:https://www.sedonafire.org/event/bike-rodeo-toys-for-tots/
LOCATION:West Sedona School\, 570 Posse Ground Rd\, Sedona\, 86336\, United States
ATTACH;FMTTYPE=image/jpeg:https://www.sedonafire.org/wp-content/uploads/2024/12/Kids-on-bikes.jpg
END:VEVENT
BEGIN:VEVENT
DTSTART;TZID=UTC:20241210T100000
DTEND;TZID=UTC:20241210T170000
DTSTAMP:20260425T201847
CREATED:20241204T220628Z
LAST-MODIFIED:20241204T222407Z
UID:10000116-1733824800-1733850000@www.sedonafire.org
SUMMARY:Toys for Tots Stuff the Bus
DESCRIPTION:On Tuesday\, Dec. 10\, 2024\, from 10 a.m. to 5 p.m. at the Posse Grounds Pavilion\, the city invites the Sedona community to bring new\, unwrapped toys for ages newborn to 16 years old\, to “stuff the bus” with all toys being donated to Sedona Toys for Tots. \nSedona Fire District is also a Toys for Tots drop-off  location!\n2860 Southwest Drive in West Sedona\nMonday – Thursday\, 7am – 5pm\, through December 10th!
URL:https://www.sedonafire.org/event/toys-for-tots-stuff-the-bus/
LOCATION:Posse Grounds Pavilion\, 525 Posse Ground Rd\, Sedona\, AZ\, 86336\, United States
CATEGORIES:All Events,Community Events
ATTACH;FMTTYPE=image/jpeg:https://www.sedonafire.org/wp-content/uploads/2024/12/marine-toys-for-tots-bear-with-logo.jpg
END:VEVENT
BEGIN:VEVENT
DTSTART;TZID=UTC:20241119T163000
DTEND;TZID=UTC:20241119T180000
DTSTAMP:20260425T201847
CREATED:20240103T011234Z
LAST-MODIFIED:20240103T064907Z
UID:10000103-1732033800-1732039200@www.sedonafire.org
SUMMARY:November 2024 Board Meeting
DESCRIPTION:Notice of Quorum\nAgenda\nPacket\nRecorded Meeting
URL:https://www.sedonafire.org/event/november-2024-board-meeting/
LOCATION:SFD Station 1\, 2860 Southwest Drive\, Sedona (Yavapai)\, AZ\, 86336\, United States
CATEGORIES:All Events,Board Meetings
ATTACH;FMTTYPE=image/jpeg:https://www.sedonafire.org/wp-content/uploads/2021/10/Mountain-Biking_Sedona_Arizona_Pyramid-1024x768-1.jpeg
END:VEVENT
BEGIN:VEVENT
DTSTART;TZID=UTC:20241024T080000
DTEND;TZID=UTC:20241024T170000
DTSTAMP:20260425T201847
CREATED:20241003T063735Z
LAST-MODIFIED:20241003T063735Z
UID:10000115-1729756800-1729789200@www.sedonafire.org
SUMMARY:Fleet Technician I or II Application Deadline
DESCRIPTION:Now Hiring!  \nFleet Technician I or II see full Job Description I and Job Description II \n\nOpen until filled\nFirst Application review and interviews October 24\, 2024\n\nInterested applicants must send their application and resume to Sedona Fire District Human Resources. \nEmail: humanresources@sedonafire.org\nFax: 928-204-8916\nMail: 2860 Southwest Dr.\, Sedona\, AZ 86336
URL:https://www.sedonafire.org/event/fleet-technician-i-or-ii-application-deadline/
LOCATION:AZ
CATEGORIES:All Events
ATTACH;FMTTYPE=image/jpeg:https://www.sedonafire.org/wp-content/uploads/2024/07/vehicle-staging-BW-web.jpg
END:VEVENT
BEGIN:VEVENT
DTSTART;TZID=UTC:20241015T163000
DTEND;TZID=UTC:20241015T180000
DTSTAMP:20260425T201847
CREATED:20240103T011159Z
LAST-MODIFIED:20240103T064916Z
UID:10000102-1729009800-1729015200@www.sedonafire.org
SUMMARY:October 2024 Board Meeting
DESCRIPTION:Notice of Quorum\nAgenda\nPacket\nRecorded Meeting
URL:https://www.sedonafire.org/event/october-2024-board-meeting/
LOCATION:AZ
CATEGORIES:All Events,Board Meetings
ATTACH;FMTTYPE=image/jpeg:https://www.sedonafire.org/wp-content/uploads/2021/10/Mountain-Biking_Sedona_Arizona_Pyramid-1024x768-1.jpeg
END:VEVENT
BEGIN:VEVENT
DTSTART;TZID=UTC:20240917T163000
DTEND;TZID=UTC:20240917T180000
DTSTAMP:20260425T201847
CREATED:20240103T011119Z
LAST-MODIFIED:20240910T053614Z
UID:10000101-1726590600-1726596000@www.sedonafire.org
SUMMARY:September 2024 Board Meeting
DESCRIPTION:Notice of Quorum\nAgenda\nPacket\nRecorded Meeting
URL:https://www.sedonafire.org/event/september-2024-board-meeting/
LOCATION:SFD Station 1\, 2860 Southwest Drive\, Sedona (Yavapai)\, AZ\, 86336\, United States
CATEGORIES:All Events,Board Meetings
ATTACH;FMTTYPE=image/jpeg:https://www.sedonafire.org/wp-content/uploads/2022/07/911-memorial.jpg
END:VEVENT
BEGIN:VEVENT
DTSTART;TZID=UTC:20240911T084600
DTEND;TZID=UTC:20240911T110000
DTSTAMP:20260425T201847
CREATED:20240820T040413Z
LAST-MODIFIED:20240820T040513Z
UID:10000113-1726044360-1726052400@www.sedonafire.org
SUMMARY:2024 Memorial Observance - World Trade Center Event
DESCRIPTION:
URL:https://www.sedonafire.org/event/2024-memorial-observance/
LOCATION:SFD Station 6\, 2675 State Route 179\, Sedona\, 86336\, United States
CATEGORIES:All Events,Community Events
ATTACH;FMTTYPE=image/jpeg:https://www.sedonafire.org/wp-content/uploads/2022/07/911-memorial.jpg
END:VEVENT
BEGIN:VEVENT
DTSTART;TZID=UTC:20240829T080000
DTEND;TZID=UTC:20240829T170000
DTSTAMP:20260425T201847
CREATED:20240704T023316Z
LAST-MODIFIED:20240821T005646Z
UID:10000110-1724918400-1724950800@www.sedonafire.org
SUMMARY:Fleet Tech Application Review
DESCRIPTION:Fleet Technician – Position open until Filled \nFirst application review: July 23\, 2024\nNext application review: August 29\, 2024 \nInterested applicants must send their application and resume to Sedona Fire District Human Resources: \nEmail: humanresources@sedonafire.org\nFax: 928-204-8916\nMail: 2860 Southwest Dr.\, Sedona\, AZ 86336
URL:https://www.sedonafire.org/event/fleet-tech-first-application-review/
LOCATION:AZ
CATEGORIES:All Events
ATTACH;FMTTYPE=image/jpeg:https://www.sedonafire.org/wp-content/uploads/2024/07/vehicle-staging-BW-web.jpg
END:VEVENT
BEGIN:VEVENT
DTSTART;TZID=UTC:20240820T163000
DTEND;TZID=UTC:20240820T180000
DTSTAMP:20260425T201847
CREATED:20240103T010918Z
LAST-MODIFIED:20240821T004904Z
UID:10000100-1724171400-1724176800@www.sedonafire.org
SUMMARY:August 2024 Board Meeting
DESCRIPTION:Please note room location change: Station 1\, Training Room\nAgenda\nPacket\nJoin Meeting
URL:https://www.sedonafire.org/event/august-2024-board-meeting/
LOCATION:SFD Station 1\, 2860 Southwest Drive\, Sedona (Yavapai)\, AZ\, 86336\, United States
CATEGORIES:All Events,Board Meetings
ATTACH;FMTTYPE=image/jpeg:https://www.sedonafire.org/wp-content/uploads/2024/02/truck.jpg
END:VEVENT
BEGIN:VEVENT
DTSTART;TZID=UTC:20240723T080000
DTEND;TZID=UTC:20240723T170000
DTSTAMP:20260425T201847
CREATED:20240704T024533Z
LAST-MODIFIED:20240704T045057Z
UID:10000112-1721721600-1721754000@www.sedonafire.org
SUMMARY:Human Resource Specialist First Application Review
DESCRIPTION:Human Resource Specialist – Position open until Filled \nFirst application review: July 23\, 2024\nFirst interview period: week of July 29\, 2024 \nInterested applicants must send their application and resume to Sedona Fire District Human Resources: \nEmail: humanresources@sedonafire.org\nFax: 928-204-8916\nMail: 2860 Southwest Dr.\, Sedona\, AZ 86336
URL:https://www.sedonafire.org/event/human-resource-specialist-first-application-review/
LOCATION:AZ
CATEGORIES:All Events
ATTACH;FMTTYPE=image/jpeg:https://www.sedonafire.org/wp-content/uploads/2024/04/Admin-2024.jpg
END:VEVENT
BEGIN:VEVENT
DTSTART;TZID=UTC:20240709T163000
DTEND;TZID=UTC:20240709T180000
DTSTAMP:20260425T201847
CREATED:20240103T010747Z
LAST-MODIFIED:20240704T025450Z
UID:10000099-1720542600-1720548000@www.sedonafire.org
SUMMARY:July 2024 Board Meeting
DESCRIPTION:Notice of Quorum\nAgenda\nPacket\nRecorded Meeting
URL:https://www.sedonafire.org/event/july-2024-board-meeting/
LOCATION:SFD Station 1\, 2860 Southwest Drive\, Sedona (Yavapai)\, AZ\, 86336\, United States
CATEGORIES:All Events,Board Meetings
ATTACH;FMTTYPE=application/pdf:https://www.sedonafire.org/wp-content/uploads/2024/01/July-Board-Announcement.pdf
END:VEVENT
BEGIN:VEVENT
DTSTART;TZID=UTC:20240618T160000
DTEND;TZID=UTC:20240618T180000
DTSTAMP:20260425T201847
CREATED:20240103T010644Z
LAST-MODIFIED:20240103T065145Z
UID:10000098-1718726400-1718733600@www.sedonafire.org
SUMMARY:June 2024 Board Meeting
DESCRIPTION:Notice of Quorum\nAgenda\nPacket\nRecorded Meeting
URL:https://www.sedonafire.org/event/june-2024-board-meeting/
LOCATION:AZ
CATEGORIES:All Events,Board Meetings
ATTACH;FMTTYPE=image/jpeg:https://www.sedonafire.org/wp-content/uploads/2021/10/Mountain-Biking_Sedona_Arizona_Pyramid-1024x768-1.jpeg
END:VEVENT
BEGIN:VEVENT
DTSTART;VALUE=DATE:20240616
DTEND;VALUE=DATE:20240617
DTSTAMP:20260425T201847
CREATED:20240522T065530Z
LAST-MODIFIED:20240522T065720Z
UID:10000109-1718496000-1718582399@www.sedonafire.org
SUMMARY:Firefighter Recruit Deadline
DESCRIPTION:Fire Fighter Recruitment is now open!\n \nJoin the Sedona Fire District Team video \nHere are the Recruitment Announcement\, Job Description\, and FAQs.\nAll assessments are performed by National Testing Network (NTN).  Follow the link and complete by June 16\, 2024
URL:https://www.sedonafire.org/event/4615/
LOCATION:AZ
CATEGORIES:All Events
ATTACH;FMTTYPE=image/jpeg:https://www.sedonafire.org/wp-content/uploads/2024/04/Baker-instructions-full-gear-web.jpg
END:VEVENT
BEGIN:VEVENT
DTSTART;TZID=UTC:20240521T160000
DTEND;TZID=UTC:20240521T180000
DTSTAMP:20260425T201847
CREATED:20240103T010606Z
LAST-MODIFIED:20240103T065223Z
UID:10000097-1716307200-1716314400@www.sedonafire.org
SUMMARY:May 2024 Board Meeting
DESCRIPTION:Notice of Quorum\nAgenda\nPacket\nRecorded Meeting
URL:https://www.sedonafire.org/event/may-2024-board-meeting/
LOCATION:AZ
CATEGORIES:All Events,Board Meetings
ATTACH;FMTTYPE=image/jpeg:https://www.sedonafire.org/wp-content/uploads/2021/10/Mountain-Biking_Sedona_Arizona_Pyramid-1024x768-1.jpeg
END:VEVENT
BEGIN:VEVENT
DTSTART;TZID=UTC:20240505T080000
DTEND;TZID=UTC:20240505T170000
DTSTAMP:20260425T201847
CREATED:20240412T055145Z
LAST-MODIFIED:20240412T065214Z
UID:10000108-1714896000-1714928400@www.sedonafire.org
SUMMARY:Wildfire Preparedness Days
DESCRIPTION:Sedona & Village of Oak Creek Area Residents \nA free event to dispose of flammable and combustible vegetation to assist with protecting your home from wildfire.\nCreating defensible space of just 30 feet can substantially increase your home’s survivability during a wildfire! \nWhat Is Accepted\nBagged leaves\, grass and pine needles\nBrush\, limbs\, tree & shrub trimmings \nPrint the Event Flyer
URL:https://www.sedonafire.org/event/wildfire-preparedness-days-4/
LOCATION:West Sedona School\, 570 Posse Ground Rd\, Sedona\, 86336\, United States
CATEGORIES:All Events,Community Events
ATTACH;FMTTYPE=image/png:https://www.sedonafire.org/wp-content/uploads/2024/04/rp_fire_prev_570px-1-e1712879370588.png
END:VEVENT
BEGIN:VEVENT
DTSTART;TZID=UTC:20240504T080000
DTEND;TZID=UTC:20240504T170000
DTSTAMP:20260425T201847
CREATED:20240412T055106Z
LAST-MODIFIED:20240412T064350Z
UID:10000107-1714809600-1714842000@www.sedonafire.org
SUMMARY:Wildfire Preparedness Days
DESCRIPTION:Sedona & Village of Oak Creek Area Residents \nA free event to dispose of flammable and combustible vegetation to assist with protecting your home from wildfire.\nCreating defensible space of just 30 feet can substantially increase your home’s survivability during a wildfire! \nWhat Is Accepted\nBagged leaves\, grass and pine needles\nBrush\, limbs\, tree & shrub trimmings \nPrint the Event Flyer
URL:https://www.sedonafire.org/event/wildfire-preparedness-days-3/
LOCATION:West Sedona School\, 570 Posse Ground Rd\, Sedona\, 86336\, United States
CATEGORIES:All Events,Community Events
ATTACH;FMTTYPE=image/png:https://www.sedonafire.org/wp-content/uploads/2024/04/rp_fire_prev_570px-1-e1712879370588.png
END:VEVENT
BEGIN:VEVENT
DTSTART;TZID=UTC:20240428T080000
DTEND;TZID=UTC:20240428T170000
DTSTAMP:20260425T201847
CREATED:20240412T054934Z
LAST-MODIFIED:20240412T064950Z
UID:10000106-1714291200-1714323600@www.sedonafire.org
SUMMARY:Wildfire Preparedness Days
DESCRIPTION:Sedona & Village of Oak Creek Area Residents \nA free event to dispose of flammable and combustible vegetation to assist with protecting your home from wildfire.\nCreating defensible space of just 30 feet can substantially increase your home’s survivability during a wildfire! \nWhat Is Accepted\nBagged leaves\, grass and pine needles\nBrush\, limbs\, tree & shrub trimmings \nPrint the Event Flyer
URL:https://www.sedonafire.org/event/wildfire-preparedness-days-2/
LOCATION:6657 State Route 179\, VOC\, 6657 State Route 179\, Village of Oak Creek\, AZ\, 86351\, United States
CATEGORIES:All Events,Community Events
ATTACH;FMTTYPE=image/png:https://www.sedonafire.org/wp-content/uploads/2024/04/rp_fire_prev_570px-1-e1712879370588.png
END:VEVENT
BEGIN:VEVENT
DTSTART;TZID=UTC:20240427T080000
DTEND;TZID=UTC:20240427T170000
DTSTAMP:20260425T201847
CREATED:20240412T054744Z
LAST-MODIFIED:20240412T065039Z
UID:10000105-1714204800-1714237200@www.sedonafire.org
SUMMARY:Wildfire Preparedness Days
DESCRIPTION:Sedona & Village of Oak Creek Area Residents \nA free event to dispose of flammable and combustible vegetation to assist with protecting your home from wildfire.\nCreating defensible space of just 30 feet can substantially increase your home’s survivability during a wildfire! \nWhat Is Accepted\nBagged leaves\, grass and pine needles\nBrush\, limbs\, tree & shrub trimmings \nPrint the Event Flyer
URL:https://www.sedonafire.org/event/wildfire-preparedness-days/
LOCATION:6657 State Route 179\, VOC\, 6657 State Route 179\, Village of Oak Creek\, AZ\, 86351\, United States
CATEGORIES:All Events,Community Events
ATTACH;FMTTYPE=image/png:https://www.sedonafire.org/wp-content/uploads/2024/04/rp_fire_prev_570px-1-e1712879370588.png
END:VEVENT
BEGIN:VEVENT
DTSTART;TZID=UTC:20240416T160000
DTEND;TZID=UTC:20240416T180000
DTSTAMP:20260425T201847
CREATED:20240103T010504Z
LAST-MODIFIED:20240103T065300Z
UID:10000096-1713283200-1713290400@www.sedonafire.org
SUMMARY:April 2024 Board Meeting
DESCRIPTION:Notice of Quorum\nAgenda\nPacket\nRecorded Meeting
URL:https://www.sedonafire.org/event/april-2024-board-meeting/
LOCATION:AZ
CATEGORIES:All Events,Board Meetings
ATTACH;FMTTYPE=image/jpeg:https://www.sedonafire.org/wp-content/uploads/2021/10/Mountain-Biking_Sedona_Arizona_Pyramid-1024x768-1.jpeg
END:VEVENT
BEGIN:VEVENT
DTSTART;TZID=UTC:20240319T153000
DTEND;TZID=UTC:20240319T180000
DTSTAMP:20260425T201847
CREATED:20240103T010421Z
LAST-MODIFIED:20240103T065428Z
UID:10000095-1710862200-1710871200@www.sedonafire.org
SUMMARY:March 2024 Board Meeting
DESCRIPTION:Notice of Quorum\nAgenda\nPacket\nRecorded Meeting
URL:https://www.sedonafire.org/event/march-2024-board-meeting/
LOCATION:AZ
CATEGORIES:All Events,Board Meetings
ATTACH;FMTTYPE=image/jpeg:https://www.sedonafire.org/wp-content/uploads/2021/10/Mountain-Biking_Sedona_Arizona_Pyramid-1024x768-1.jpeg
END:VEVENT
END:VCALENDAR