BEGIN:VCALENDAR
VERSION:2.0
PRODID:-//Sedona Fire District - ECPv6.15.20//NONSGML v1.0//EN
CALSCALE:GREGORIAN
METHOD:PUBLISH
X-WR-CALNAME:Sedona Fire District
X-ORIGINAL-URL:https://www.sedonafire.org
X-WR-CALDESC:Events for Sedona Fire District
REFRESH-INTERVAL;VALUE=DURATION:PT1H
X-Robots-Tag:noindex
X-PUBLISHED-TTL:PT1H
BEGIN:VTIMEZONE
TZID:UTC
BEGIN:STANDARD
TZOFFSETFROM:+0000
TZOFFSETTO:+0000
TZNAME:UTC
DTSTART:20250101T000000
END:STANDARD
END:VTIMEZONE
BEGIN:VEVENT
DTSTART;TZID=UTC:20260317T150000
DTEND;TZID=UTC:20260317T170000
DTSTAMP:20260425T131925
CREATED:20260209T170310Z
LAST-MODIFIED:20260209T170310Z
UID:10000139-1773759600-1773766800@www.sedonafire.org
SUMMARY:March 2026 Board Meeting
DESCRIPTION:Join the Sedona Fire Governing Board Public Meeting\nThe 3rd Tuesday of each Month\nNow at 3:00pm \nLocated in the Multipurpose Room at Station #1\n2860 Southwest Drive in West Sedona\nand online through Microsoft Teams. \nSee Board Meetings & Minutes for more details
URL:https://www.sedonafire.org/event/march-2026-board-meeting/
LOCATION:SFD Station 1\, 2860 Southwest Drive\, Sedona (Yavapai)\, AZ\, 86336\, United States
CATEGORIES:All Events,Board Meetings
ATTACH;FMTTYPE=image/jpeg:https://www.sedonafire.org/wp-content/uploads/2022/07/station6.jpg
END:VEVENT
BEGIN:VEVENT
DTSTART;TZID=UTC:20260319T163000
DTEND;TZID=UTC:20260319T183000
DTSTAMP:20260425T131925
CREATED:20241224T054819Z
LAST-MODIFIED:20260304T170908Z
UID:10000125-1773937800-1773945000@www.sedonafire.org
SUMMARY:Fire Station #4 Public Meeting Presentation
DESCRIPTION:Join us for a public meeting where we present and discuss the new Station #4 plans to keep our community informed. See brochure for details. \nMarch 19\, 2026 \n4:30 – 6:30pm \n2860 Southwest Drive\, Sedona\, AZ 86336
URL:https://www.sedonafire.org/event/station-4-public-meeting/
LOCATION:SFD Station 1\, 2860 Southwest Drive\, Sedona (Yavapai)\, AZ\, 86336\, United States
CATEGORIES:All Events,Community Events
ATTACH;FMTTYPE=image/jpeg:https://www.sedonafire.org/wp-content/uploads/2024/12/Pages-from-SFD_FS4_Concept_Design_10.20.25-scaled.jpg
END:VEVENT
END:VCALENDAR